BEGIN:VCALENDAR
VERSION:2.0
PRODID:-//wp-events-plugin.com//7.2.3.1//EN
TZID:Europe/Brussels
X-WR-TIMEZONE:Europe/Brussels
BEGIN:VEVENT
UID:29@chapelle-aux-champs.be
DTSTART;TZID=Europe/Brussels:20250410T083000
DTEND;TZID=Europe/Brussels:20250410T170000
DTSTAMP:20250221T102613Z
URL:https://chapelle-aux-champs.be/agenda/les-embarras-de-lh-histoire-a-la
 dolescence-savancer-en-terrain-mine-journee-detude-du-daja/
SUMMARY:"Les embarras de l'H / histoire à l'adolescence - S'avancer en ter
 rain miné" Journée d'étude du DAJA
DESCRIPTION:Journée d'étude organisée par le Département Adolescents et
  Jeunes Adultes du Centre Chapelle-aux-Champs.\n\nNous vous proposons de v
 ous inscrire en  cliquant ici\n\nDate :\n\nLe jeudi 10 avril 2024 du 09h0
 0 à 17h00\n\nLieu : Pavillon des Conférences - Clos Chapelle-aux-Champs 
 n°19 à 1200 Bruxelles (en face du Centre Chapelle-aux-Champs).\n\nProgra
 mme :\n\n8h30 : Accueil\n\n9h00 : Prologue\n\nAnnick Delférière\, psycho
 logue et Aurore Mairy\, psychiatre\, co-responsables du Département Adole
 scents et Jeunes adultes(DAJA)\n\n9h15 : « Les embarras de l’adolescent
  : déminer les non-dits\, quand l’histoire familiale se tait » Modéra
 teur : Aurore Mairy\n\nInterventions:  Serge Lahaye\, directeur de l’as
 bl “ La Tramontane”\n\nCarole Maquoi et Virginie Wouters\, psychiatres
  au DAJA\n\n11h00 : PAUSE CAFE\n\n11h30 : « Les embarras du thérapeute :
  engagement\, mine de rien? »\n\nModérateur: Annick Delférière\n\nInte
 rventions: Tanja Spöri\, psychologue au Département Enfants et Famille d
 u Centre Chapelle-aux-Champs Thierry Lebrun: psychiatre au DAJA\n\n13h00 
 : LUNCH\n\n14h00 : « Les embarras du témoin : quand l'espace intime rejo
 int l'espace politique »\n\nModérateur: Charlotte Wilputte\n\nInterventi
 ons: Isabelle Seret\, intervenante\, sociologue clinicienne\, formée en v
 ictimologie appliquée Tanguy de Foy\, psychologue au DAJA et Ibrahim Khay
 ar\, psychiatre au DAJA\n\n15h30 : Intervention conclusive\n\nPr. Philippe
  van Meerbeeck\, psychiatre et psychanalyste\n\n16h30 : Epilogue\n\nAnnick
  Delférière et Aurore Mairy\n\nTarif :\n\n70€ /35€*\n60€/30€**\n
 *tarif réduit : étudiants/demandeurs d’emploi\n**si paiement avant le 
 10 mars 2025\n\nPaiement sur le compte du Centre Chapelle-aux-Champs : BE0
 4-0015-5674-6431 Communication libre : NOM + PRENOM EVENT 10/04 DAJA\n\n&n
 bsp\;\nVous pouvez consulter le programme complet en cliquant ici.\nNous v
 ous proposons de vous inscrire en  cliquant ici\n&nbsp\;\n
END:VEVENT
BEGIN:VTIMEZONE
TZID:Europe/Brussels
X-LIC-LOCATION:Europe/Brussels
BEGIN:DAYLIGHT
DTSTART:20250330T030000
TZOFFSETFROM:+0100
TZOFFSETTO:+0200
TZNAME:CEST
END:DAYLIGHT
END:VTIMEZONE
END:VCALENDAR