BEGIN:VCALENDAR
VERSION:2.0
PRODID:-//wp-events-plugin.com//7.2.3.1//EN
TZID:Europe/Brussels
X-WR-TIMEZONE:Europe/Brussels
BEGIN:VEVENT
UID:45@chapelle-aux-champs.be
DTSTART;TZID=Europe/Brussels:20260417T141500
DTEND;TZID=Europe/Brussels:20260417T161500
DTSTAMP:20260318T121655Z
URL:https://chapelle-aux-champs.be/agenda/le-devenir-du-desir-en-analyse-l
 uis-izcovich/
SUMMARY:"LE DEVENIR DU DESIR EN ANALYSE" Luis IZCOVICH
DESCRIPTION:Le Groupe d'Etude Psychanalytique organise une conférence le v
 endredi 17 avril 2026.\n\nInscrivez vous en cliquant ici \n\nTarif : 10 
 € à régler sur le compte du Centre BE04-0015-5674-6431 - communication
  libre : NOM+Prénom+GEP17/04\n\n
END:VEVENT
BEGIN:VTIMEZONE
TZID:Europe/Brussels
X-LIC-LOCATION:Europe/Brussels
BEGIN:DAYLIGHT
DTSTART:20260329T030000
TZOFFSETFROM:+0100
TZOFFSETTO:+0200
TZNAME:CEST
END:DAYLIGHT
END:VTIMEZONE
END:VCALENDAR